BEGIN:VCALENDAR
VERSION:2.0
PRODID:-//ESCM - ECPv6.15.20//NONSGML v1.0//EN
CALSCALE:GREGORIAN
METHOD:PUBLISH
X-WR-CALNAME:ESCM
X-ORIGINAL-URL:https://escm.es
X-WR-CALDESC:Eventos para ESCM
REFRESH-INTERVAL;VALUE=DURATION:PT1H
X-Robots-Tag:noindex
X-PUBLISHED-TTL:PT1H
BEGIN:VTIMEZONE
TZID:Europe/Madrid
BEGIN:DAYLIGHT
TZOFFSETFROM:+0100
TZOFFSETTO:+0200
TZNAME:CEST
DTSTART:20250330T010000
END:DAYLIGHT
BEGIN:STANDARD
TZOFFSETFROM:+0200
TZOFFSETTO:+0100
TZNAME:CET
DTSTART:20251026T010000
END:STANDARD
BEGIN:DAYLIGHT
TZOFFSETFROM:+0100
TZOFFSETTO:+0200
TZNAME:CEST
DTSTART:20260329T010000
END:DAYLIGHT
BEGIN:STANDARD
TZOFFSETFROM:+0200
TZOFFSETTO:+0100
TZNAME:CET
DTSTART:20261025T010000
END:STANDARD
BEGIN:DAYLIGHT
TZOFFSETFROM:+0100
TZOFFSETTO:+0200
TZNAME:CEST
DTSTART:20270328T010000
END:DAYLIGHT
BEGIN:STANDARD
TZOFFSETFROM:+0200
TZOFFSETTO:+0100
TZNAME:CET
DTSTART:20271031T010000
END:STANDARD
END:VTIMEZONE
BEGIN:VEVENT
DTSTART;TZID=Europe/Madrid:20260425T180000
DTEND;TZID=Europe/Madrid:20260425T193000
DTSTAMP:20260425T153656
CREATED:20260416T154337Z
LAST-MODIFIED:20260423T105224Z
UID:357521-1777140000-1777145400@escm.es
SUMMARY:Suor Angelica (G. Puccini)
DESCRIPTION:Ópera en versión concierto de la asignatura ópera de cámara. prof. J. Gómez y L. Verna \n \nPROGRAMA Suor Angelica (Puccini)\, reparto\, 25 de abril de 2026 \nEntrada libre hasta completar aforo
URL:https://escm.es/event/suor-angelica-g-puccini-2/
LOCATION:Teatro Bauer\, C. de San Bernardo\, 44\, Madrid\, Madrid\, 28015\, Spain
CATEGORIES:Montaje a piano
END:VEVENT
END:VCALENDAR